BEGIN:VCALENDAR
VERSION:2.0
PRODID:-//Kokua Mau - ECPv6.15.20//NONSGML v1.0//EN
CALSCALE:GREGORIAN
METHOD:PUBLISH
X-ORIGINAL-URL:https://kokuamau.org
X-WR-CALDESC:Events for Kokua Mau
REFRESH-INTERVAL;VALUE=DURATION:PT1H
X-Robots-Tag:noindex
X-PUBLISHED-TTL:PT1H
BEGIN:VTIMEZONE
TZID:Pacific/Honolulu
BEGIN:STANDARD
TZOFFSETFROM:-1000
TZOFFSETTO:-1000
TZNAME:HST
DTSTART:20210101T000000
END:STANDARD
END:VTIMEZONE
BEGIN:VEVENT
DTSTART;TZID=Pacific/Honolulu:20220607T120000
DTEND;TZID=Pacific/Honolulu:20220607T130000
DTSTAMP:20260424T095455
CREATED:20220531T201442Z
LAST-MODIFIED:20220531T203439Z
UID:17119-1654603200-1654606800@kokuamau.org
SUMMARY:Palliative Care - Extra Support for people with Cancer
DESCRIPTION:This special presentation is for the Cancer Coalition to support individuals living with cancer\, their families and their caregivers\, as well as healthcare providers who want to learn more about how Palliative Care can support individuals with serious illness.  \n\n\n\nPresenters include:  \n\n\n\nThis special presentation is for the Cancer Coalition to support individuals living with cancer\, their families and their caregivers\, as well as healthcare providers who want to learn more about how Palliative Care can support individuals with serious illness.  \n\n\n\nDr. Daniel Fischberg\, a Palliative Medicine Physician at Queen’s Medical Center and Sara-May Colon\, Chaplain at Adventist Health. Hear a conversation about “Caregiver’s Journey” with Palliative Care.\n\n\n\nRegister in advance for this meeting: https://us02web.zoom.us/meeting/register/tZUsf-uqpzssH9Z076brDpHEOKWfFeKh7fQL \n\n\n\nDownload the flyer
URL:https://kokuamau.org/event/palliative-care-extra-support-for-people-with-cancer/
END:VEVENT
END:VCALENDAR