BEGIN:VCALENDAR
VERSION:2.0
PRODID:-//Kokua Mau - ECPv6.15.20//NONSGML v1.0//EN
CALSCALE:GREGORIAN
METHOD:PUBLISH
X-WR-CALNAME:Kokua Mau
X-ORIGINAL-URL:https://kokuamau.org
X-WR-CALDESC:Events for Kokua Mau
REFRESH-INTERVAL;VALUE=DURATION:PT1H
X-Robots-Tag:noindex
X-PUBLISHED-TTL:PT1H
BEGIN:VTIMEZONE
TZID:Pacific/Honolulu
BEGIN:STANDARD
TZOFFSETFROM:-1000
TZOFFSETTO:-1000
TZNAME:HST
DTSTART:20210101T000000
END:STANDARD
END:VTIMEZONE
BEGIN:VEVENT
DTSTART;TZID=Pacific/Honolulu:20220119T051500
DTEND;TZID=Pacific/Honolulu:20220119T190000
DTSTAMP:20260419T230950
CREATED:20220114T210813Z
LAST-MODIFIED:20220120T024138Z
UID:16592-1642569300-1642618800@kokuamau.org
SUMMARY:Palliative Pupus January 2022
DESCRIPTION:Our first 2022 exciting local bi-monthly networking and clinical education opportunity. \n\n\n\nCome participate in an interactive interdisciplinary story from the cutting edge of hospice and palliative care and mingle with colleagues on zoom. If you are involved with palliative care cases\, you are invited. Please tell your colleagues and friends. Topic TBA in our newsletter as soon as it is finalized.Register in advance for Palliative Pupus zoom meeting. After registering\, you will receive a confirmation email containing information about joining the meeting.
URL:https://kokuamau.org/event/palliative-pupus-january-2022/
END:VEVENT
BEGIN:VEVENT
DTSTART;TZID=Pacific/Honolulu:20220127T160000
DTEND;TZID=Pacific/Honolulu:20220127T180000
DTSTAMP:20260419T230950
CREATED:20220114T210045Z
LAST-MODIFIED:20220126T002345Z
UID:16580-1643299200-1643306400@kokuamau.org
SUMMARY:Kōkua Mau Meeting January 2022
DESCRIPTION:Please join us on January 27 for the first Kōkua Mau meeting of 2022.  The meeting will begin at 4pm this time as we will be combining a presentation of our recent Instagram campaign along with a Lunar/Chinese New Year party – all via Zoom of course. In the Fall\, we had our first Instagram Campaign promoting Palliative Care.  The campaign was researched\, implemented and evaluated by three amazing West O‘ahu students who will be presenting their work.  We believe this is the first instagram campaign of its kind in the country as it was geared at the public and not professionals.  They will be sharing what we learned about messaging and social media.   \n\n\n\nThe second part of the meeting is a New Year’s party just in time for the Lunar Year of the Tiger.  We will give more details as we get closer but this will be a chance to chat with friends and colleagues and play a game or two.  We are having it at 5pm to include those who cannot make it earlier.Please join us!!! \n\n\n\nRegister in advance for the monthly meeting. After registering\, you will receive a confirmation email with details on how to join the zoom meeting.
URL:https://kokuamau.org/event/january-2022-kokua-mau-meeting/
END:VEVENT
END:VCALENDAR