BEGIN:VCALENDAR
VERSION:2.0
PRODID:-//Kokua Mau - ECPv6.15.20//NONSGML v1.0//EN
CALSCALE:GREGORIAN
METHOD:PUBLISH
X-ORIGINAL-URL:https://kokuamau.org
X-WR-CALDESC:Events for Kokua Mau
REFRESH-INTERVAL;VALUE=DURATION:PT1H
X-Robots-Tag:noindex
X-PUBLISHED-TTL:PT1H
BEGIN:VTIMEZONE
TZID:Pacific/Honolulu
BEGIN:STANDARD
TZOFFSETFROM:-1000
TZOFFSETTO:-1000
TZNAME:HST
DTSTART:20240101T000000
END:STANDARD
END:VTIMEZONE
BEGIN:VEVENT
DTSTART;TZID=Pacific/Honolulu:20250925T120000
DTEND;TZID=Pacific/Honolulu:20250925T133000
DTSTAMP:20260424T143851
CREATED:20250915T022533Z
LAST-MODIFIED:20250915T022618Z
UID:21658-1758801600-1758807000@kokuamau.org
SUMMARY:Kokua Mau Meeting Sept 2025
DESCRIPTION:MyDirectives digital ACP solutions\n\n\n\nThur Sept 25 12 noon – 1:30pm \n\n\n\nPlease note that this month’s meeting starts at NOON since our speaker lives on the East Coast. Invite your colleagues who are interested in this possible solution for Hawaii. \n\n\n\nHigh-quality digital advance care planning (ACP) enables patients’ voices to be heard across all points of care. When advance directives\, mental health advance directives (MHADs)\, and portable medical orders (POLST) are accessible in real time\, care teams can honor patient healthcare goals and preferences\, reduce unnecessary and unwanted treatments\, and lessen the emotional burden on families and clinicians \n\n\n\nHere in Hawaii we continue to look for solutions to help make sure that documents can be found when they are needed. I reached out to MyDirectives as I have heard them present at national meetings AND they are interested in helping Hawaii succeed.  \n\n\n\nPlease join us to hear from MyDirectives about their digital ACP solutions. They have a nationwide registry and work with each state to create comprehensive systems that allow the entire healthcare community – providers\, health plans\, first responders\, state agencies\, HIEs/HDUs\, and quality organizations to access documents any where\, any time. In Hawaiʻi\, this approach can accelerate adoption of best practices\, streamline deployment across care settings — including for EMS and fire teams providing care in the field — and deliver the reporting and analytics needed to measure impact on quality and cost.  \n\n\n\nJoin Jessica Zan\, Vice President of Clinical Integration at MyDirectives\, to explore how Hawaiʻi can build a comprehensive ACP ecosystem that improves outcomes for patients\, families\, and the healthcare system as a whole. \n\n\n\n\nRegister in advance for this meeting\n\n\n\nAfter registering\, you will receive a confirmation email containing information about joining the meeting.
URL:https://kokuamau.org/event/kokua-mau-meeting-sept-2025/
END:VEVENT
END:VCALENDAR