BEGIN:VCALENDAR
VERSION:2.0
PRODID:-//Kokua Mau - ECPv6.15.20//NONSGML v1.0//EN
CALSCALE:GREGORIAN
METHOD:PUBLISH
X-ORIGINAL-URL:https://kokuamau.org
X-WR-CALDESC:Events for Kokua Mau
REFRESH-INTERVAL;VALUE=DURATION:PT1H
X-Robots-Tag:noindex
X-PUBLISHED-TTL:PT1H
BEGIN:VTIMEZONE
TZID:Pacific/Honolulu
BEGIN:STANDARD
TZOFFSETFROM:-1000
TZOFFSETTO:-1000
TZNAME:HST
DTSTART:20240101T000000
END:STANDARD
END:VTIMEZONE
BEGIN:VEVENT
DTSTART;TZID=Pacific/Honolulu:20250828T120000
DTEND;TZID=Pacific/Honolulu:20250828T130000
DTSTAMP:20260425T135222
CREATED:20250806T010437Z
LAST-MODIFIED:20250809T010054Z
UID:21480-1756382400-1756386000@kokuamau.org
SUMMARY:Bereavement Network of Hawaii presents author of wait don't die yet
DESCRIPTION:Presented by the Bereavement Network of Hawaii: Hawaii Author Annette Kam\, RN “WAIT\, DON’T DIE YET!”  \n\n\n\nA complete guide to all things no one really wants to think about (but everyone really needs to know) before\, during\, and after a loved one’s passing. \n\n\n\nAugust 2812:00 PM to 1:00 PM  \n\n\n\n\nRegister for the zoom meeting or use the QR code\n\n\n\n\n\n\n\n\n\n\n\n\n\nDownload the flyer for details about the author\n\n\n\n\nAfter registering\, you will receive a confirmation email containing information about joining the meeting. \n\n\n\nAll Kōkua Mau members are welcome to join in this meeting. The Bereavement Network Of Hawaii (BNOH) was founded to support people who are providing bereavement services to individuals and families in the Hawaii community through informational programs\, networking and support\, both on-line and in person throughout the year. A comprehensive list of agencies and individuals is posted and updated on our Kōkua Mau website. 
URL:https://kokuamau.org/event/bereavement-network-of-hawaii-presents-author-of-wait-dont-die-yet/
END:VEVENT
BEGIN:VEVENT
DTSTART;TZID=Pacific/Honolulu:20250828T150000
DTEND;TZID=Pacific/Honolulu:20250828T170000
DTSTAMP:20260425T135222
CREATED:20250714T200039Z
LAST-MODIFIED:20250826T231320Z
UID:21463-1756393200-1756400400@kokuamau.org
SUMMARY:Kokua Mau Monthly Meeting August 2025
DESCRIPTION:Kate DeBartolo\, The Conversation Project\, Institute for Healthcare Improvement \n\n\n\nMy Health Checklist was developed by IHI and is a free guide for older adults that complements the Conversation Project’s other materials\,which are widely used in Hawaii. Kate DeBartolo will introduce the tool to help people prepare for medical appointments and share with us lessons learned. The Health Checklist is also available in Chinese and Spanish. \n\n\n\nKate has done trainings in Hawaiʻi with us\, before the pandemic\, and is a long time supporter of Kōkua Mau and the work happening here in Hawaiʻi to support people who may be facing serious illness. \n\n\n\nVisit the website to see this excellent and free resource: https://www.ihi.org/partner/initiatives/age-friendly-health-systems/my-health-checklist \n\n\n\nMy Health Checklist is designed to help older adults get the most out of their medical appointments. This guide helps you think through all aspects of your health — what’s going well\, what could be better\, and your questions or concerns. Being prepared means that you can make sure your appointment focuses on the things that matter most to you. \n\n\n\n\nRegister in advance for this meeting\n\n\n\nAfter registering\, you will receive a confirmation email containing information about joining the meeting.\n\n\n\n\nPlease join us for our Virtual Monthly Meeting on zoom\, to learn\, laugh\, mingle and network. Subscribe to our eNewsletter for the most up-to-date information and zoom log-ins. A recording of many of our meetings are available on our YouTube channel\, in case you might have missed it. \n\n\n\nLast Thursday of the month* from 3 to 5 pm (on zoom)\n\n\n\n* Please note that there are months with five Thursdays. If this is the case\, the meeting is on the 5th Thursday of that month (except November & December when we have a combined meeting after Thanksgiving). \n\n\n\nEach month’s topic is announced in our eNewsletter
URL:https://kokuamau.org/event/kokua-mau-monthly-meeting-august-2025/
END:VEVENT
END:VCALENDAR