BEGIN:VCALENDAR
VERSION:2.0
PRODID:-//Kokua Mau - ECPv6.15.20//NONSGML v1.0//EN
CALSCALE:GREGORIAN
METHOD:PUBLISH
X-WR-CALNAME:Kokua Mau
X-ORIGINAL-URL:https://kokuamau.org
X-WR-CALDESC:Events for Kokua Mau
REFRESH-INTERVAL;VALUE=DURATION:PT1H
X-Robots-Tag:noindex
X-PUBLISHED-TTL:PT1H
BEGIN:VTIMEZONE
TZID:Pacific/Honolulu
BEGIN:STANDARD
TZOFFSETFROM:-1000
TZOFFSETTO:-1000
TZNAME:HST
DTSTART:20230101T000000
END:STANDARD
END:VTIMEZONE
BEGIN:VEVENT
DTSTART;TZID=Pacific/Honolulu:20240830T080000
DTEND;TZID=Pacific/Honolulu:20240830T163000
DTSTAMP:20260425T045147
CREATED:20240805T200302Z
LAST-MODIFIED:20240805T200304Z
UID:20128-1725004800-1725035400@kokuamau.org
SUMMARY:Advance Care Planning (ACP) Advance Directives and Provider Orders for Life-Sustaining Treatment (POLST) Facilitator Training (Kaua'i)
DESCRIPTION:This training is offered for nurses\, physicians\, social workers\, and other clinicians and focuses on communication skills to improve ACP discussions. The class will review key elements and processes related to ACP\, advance directives and POLST.  \n\n\n\nCourse objective: \n\n\n\n\nApply advance care planning resources to promote advance care planning discussions.\n\n\n\nEngage the multi-disciplinary team to patient-centered discussion addressing advance care planning.\n\n\n\nPromote patients’ knowledge of advance directives\, including healthcare Power of Attorney designation.\n\n\n\nImplement correct documentation of Provider Orders for Life-Sustaining Treatment (POLST)-Cardiopulmonary Resuscitation (CPR)\, Do Not Attempt Resuscitation (DNAR)\, full and limited treatment\, time-limited trials and Comfort Care.\n\n\n\nPromote correct process of ACP documents\, access\, and utilization in your organization.\n\n\n\nIdentify end-of-life options including Hawai‘i’ requirements on Medical Aid in Dying\, Our Care\, Our Choice Act.\n\n\n\n\nWilcox Medical Center3420 Kuhio Hwy\, Lihue\, HIConference Room A \n\n\n\nRegistration: HPH employees: Manager’s approval is required prior to registering AND register online through HPH Learning Center (HLC). Type in catalog: Advance Care Planning or POLST; Select course: HPH Advance Care Planning\, Advance Directives and Facilitator Certification. \n\n\n\nNon HPH participants: Register online: https://www.hawaiipacifichealth.org/health-wellness/continuing-education/3971 \n\n\n\nAny questions\, please contact Michelle Cantillo\, RN\, HPH ACP Coordinator via email: michelle.cantillo@hawaiipacifichealth.org.
URL:https://kokuamau.org/event/advance-care-planning-acp-advance-directives-and-provider-orders-for-life-sustaining-treatment-polst-facilitator-training-kauai-2/
LOCATION:Wilcox Memorial Hospital\, 3-3420 Kuhio Hwy\, Lihue\, HI\, 96766\, United States
END:VEVENT
END:VCALENDAR