BEGIN:VCALENDAR
VERSION:2.0
PRODID:-//Kokua Mau - ECPv6.15.20//NONSGML v1.0//EN
CALSCALE:GREGORIAN
METHOD:PUBLISH
X-WR-CALNAME:Kokua Mau
X-ORIGINAL-URL:https://kokuamau.org
X-WR-CALDESC:Events for Kokua Mau
REFRESH-INTERVAL;VALUE=DURATION:PT1H
X-Robots-Tag:noindex
X-PUBLISHED-TTL:PT1H
BEGIN:VTIMEZONE
TZID:Pacific/Honolulu
BEGIN:STANDARD
TZOFFSETFROM:-1000
TZOFFSETTO:-1000
TZNAME:HST
DTSTART:20230101T000000
END:STANDARD
END:VTIMEZONE
BEGIN:VEVENT
DTSTART;TZID=Pacific/Honolulu:20240619T123000
DTEND;TZID=Pacific/Honolulu:20240619T150000
DTSTAMP:20260421T175615
CREATED:20240416T212014Z
LAST-MODIFIED:20240416T212015Z
UID:19830-1718800200-1718809200@kokuamau.org
SUMMARY:Advance Care Planning for Healthcare Professionals Virtual Class
DESCRIPTION:This Zoom class is offered for providers\, nurses\, social workers\, and other health care professionals to promote ACP discussions and will review key elements and processes related to ACP\, Advance Directives and POLST. \n\n\n\nCourse Objectives: \n\n\n\n\nApply advance care planning resources to promote advance care planning discussions.\n\n\n\n\n\nIdentify the differences between the advance directive and Provider Order for Life- Sustaining Treatment (POLST) and implement correct documentation of these documents.\n\n\n\n\nChoose one class to attend from 12:30 – 3:00 p.m.  \n\n\n\nJune – Wed 6/19/2024\, July – Tue 7/23/2024\,  Oct – Thur 10/3/2024  \n\n\n\n\nRegistration is Limited\n\n\n\nAfter registering\, you will receive a confirmation email after approval.\n\n\n\n\nAny questions please contact Michelle Cantillo\, RN\, HPH ACP Coordinator at 808-535-7874 or via email michelle.cantillo@hawaiipacifichealth.org.
URL:https://kokuamau.org/event/advance-care-planning-for-healthcare-professionals-virtual-class/
END:VEVENT
END:VCALENDAR