BEGIN:VCALENDAR
VERSION:2.0
PRODID:-//Kokua Mau - ECPv6.15.20//NONSGML v1.0//EN
CALSCALE:GREGORIAN
METHOD:PUBLISH
X-WR-CALNAME:Kokua Mau
X-ORIGINAL-URL:https://kokuamau.org
X-WR-CALDESC:Events for Kokua Mau
REFRESH-INTERVAL;VALUE=DURATION:PT1H
X-Robots-Tag:noindex
X-PUBLISHED-TTL:PT1H
BEGIN:VTIMEZONE
TZID:Pacific/Honolulu
BEGIN:STANDARD
TZOFFSETFROM:-1000
TZOFFSETTO:-1000
TZNAME:HST
DTSTART:20200101T000000
END:STANDARD
END:VTIMEZONE
BEGIN:VEVENT
DTSTART;TZID=Pacific/Honolulu:20211202T150000
DTEND;TZID=Pacific/Honolulu:20211202T170000
DTSTAMP:20260421T181534
CREATED:20211129T231110Z
LAST-MODIFIED:20211129T231111Z
UID:16331-1638457200-1638464400@kokuamau.org
SUMMARY:Kokua Mau Virtual Holiday Party
DESCRIPTION:We all deserve a party so please join us on December 2 for a VIRTUAL HOLIDAY Party.  \n\n\n\nThur. Dec 23-5 PM \n\n\n\nThis will be a chance to check in with the fabulous people of Kōkua Mau and there will be games (including trivia) and virtual art opportunities. Take a little time\, be nice to yourself and celebrate with others from across the state. \n\n\n\nHere is the registration for the last Kōkua Mau meeting of the year Dec. 2. This time it has a different registration as it is not our usual last Thurs of the month.
URL:https://kokuamau.org/event/kokua-mau-virtual-holiday-party/
END:VEVENT
END:VCALENDAR