BEGIN:VCALENDAR
VERSION:2.0
PRODID:-//Kokua Mau - ECPv6.15.20//NONSGML v1.0//EN
CALSCALE:GREGORIAN
METHOD:PUBLISH
X-WR-CALNAME:Kokua Mau
X-ORIGINAL-URL:https://kokuamau.org
X-WR-CALDESC:Events for Kokua Mau
REFRESH-INTERVAL;VALUE=DURATION:PT1H
X-Robots-Tag:noindex
X-PUBLISHED-TTL:PT1H
BEGIN:VTIMEZONE
TZID:Pacific/Honolulu
BEGIN:STANDARD
TZOFFSETFROM:-1000
TZOFFSETTO:-1000
TZNAME:HST
DTSTART:20200101T000000
END:STANDARD
END:VTIMEZONE
BEGIN:VEVENT
DTSTART;TZID=Pacific/Honolulu:20210527T150000
DTEND;TZID=Pacific/Honolulu:20210527T170000
DTSTAMP:20260425T063319
CREATED:20210309T011741Z
LAST-MODIFIED:20210510T033316Z
UID:13778-1622127600-1622134800@kokuamau.org
SUMMARY:Kokua Mau Monthly Virtual Meetings May 2021
DESCRIPTION:Please join us for our 2021 Kōkua Mau Monthly Virtual Meetings on Zoom\n\n\n\nIn our May meeting we welcome Amy Vandenbroucke\, Executive Director for National POLST\, with her presentation about what is happening with POLST nationally\, including new guidance documents and the new National POLST form. All are invited. \n\n\n\nRegister in advance for May 29 zoom meeting. After registering\, you will receive a confirmation email how to join the zoom meeting. \n\n\n\nLast Thursday of the month* from 3 to 5 pm (on zoom)\n\n\n\nPlease join us for our Virtual Monthly Meeting on zoom\, to learn\, laugh\, mingle and network. Subscribe to our eNewsletter for the most up-to-date information and zoom log-ins. \n\n\n\nEach month we have updates about events in the community and one or more guest speakers.Meetings are open to all.Each month’s topic is announced in our eNewsletterCurrent meetings are listed under ‘upcoming events’ on the right and in the calendar\n\n\n\n* Please note that there are always months with five Thursdays. The meeting is on that last (5th) Thursday of that month (except November & December when we have a combined meeting after Thanksgiving). \n\n\n\nRegister in advance for this zoom meeting:\n\n\n\nSubscribe to our eNewsletter for the most up-to-date information and zoom log-ins. Each month has its own log in\, published in our newsletter.  \n\n\n\nAfter registering\, you will receive a confirmation email containing information about joining the meeting. \n\n\n\nOur meetings in person at our permanent meeting space are cancelled for the (un)foreseeable future at least until we reach tier 4.
URL:https://kokuamau.org/event/kokua-mau-monthly-virtual-meetings-may-2021/
END:VEVENT
END:VCALENDAR