BEGIN:VCALENDAR
VERSION:2.0
PRODID:-//Kokua Mau - ECPv6.15.20//NONSGML v1.0//EN
CALSCALE:GREGORIAN
METHOD:PUBLISH
X-WR-CALNAME:Kokua Mau
X-ORIGINAL-URL:https://kokuamau.org
X-WR-CALDESC:Events for Kokua Mau
REFRESH-INTERVAL;VALUE=DURATION:PT1H
X-Robots-Tag:noindex
X-PUBLISHED-TTL:PT1H
BEGIN:VTIMEZONE
TZID:Pacific/Honolulu
BEGIN:STANDARD
TZOFFSETFROM:-1000
TZOFFSETTO:-1000
TZNAME:HST
DTSTART:20180101T000000
END:STANDARD
END:VTIMEZONE
BEGIN:VEVENT
DTSTART;TZID=Pacific/Honolulu:20190907T090000
DTEND;TZID=Pacific/Honolulu:20190907T120000
DTSTAMP:20260423T224840
CREATED:20190814T013521Z
LAST-MODIFIED:20190814T224112Z
UID:5509-1567846800-1567857600@kokuamau.org
SUMMARY:Trainings in an all-islands collaboration with the Hawaii Catholic Conference Oahu
DESCRIPTION:With our Let’s Talk Story Program we want to meet people where they work\, play or pray. \n\n \nWe are happy to announce that in collaboration with the Hawaii Catholic Conference we are participating in their 11 trainings on all islands about the importance of the conversation and Advance Health Care Directives as well as the benefits of hospice and palliative care. These events are the culmination of months of planning and collaboration with Fr. Mark Gantley\, Eva Andrade and Kokua Mau’s own Joy Yadao. \n\n \nAll sessions are open to the public for all adults\, age 18 and older. \nO‘ahu\nSaturday\, September 7 9:00 a.m. to Noon Mary Star of the Sea\, Honolulu \nTuesday\, September I 0 6:00 p.m. to 9:00 p.m. Co-Cathedral\, Honolulu \nSaturday\, October 5 9:00 a.m. to Noon Resurrection of the Lord\, Waipio \nTuesday\, November 12 6:00 p.m. to 9:00 p.m. St. John Vianney\, Kailua \nThursday\, November 21 6:00 p.m. to 9:00 p.m. St. Jude\, Kapolei \nHawai‘i Island\nThursday\, October 3 6:00 p.m. to 9:00 p.m. St.Joseph Church\, Hilo \nSaturday\, November 23 9:00 a.m. to Noon St. Michael\, Kailua-Kona \n\nDownload the PDF of all 11 trainings on all islands
URL:https://kokuamau.org/event/trainings-in-an-all-islands-collaboration-with-the-hawaii-catholic-conference-oahu/
CATEGORIES:Event in Hawaii,Workshop
END:VEVENT
END:VCALENDAR