BEGIN:VCALENDAR
VERSION:2.0
PRODID:-//Kokua Mau - ECPv6.15.20//NONSGML v1.0//EN
CALSCALE:GREGORIAN
METHOD:PUBLISH
X-WR-CALNAME:Kokua Mau
X-ORIGINAL-URL:https://kokuamau.org
X-WR-CALDESC:Events for Kokua Mau
REFRESH-INTERVAL;VALUE=DURATION:PT1H
X-Robots-Tag:noindex
X-PUBLISHED-TTL:PT1H
BEGIN:VTIMEZONE
TZID:Pacific/Honolulu
BEGIN:STANDARD
TZOFFSETFROM:-1000
TZOFFSETTO:-1000
TZNAME:HST
DTSTART:20180101T000000
END:STANDARD
END:VTIMEZONE
BEGIN:VEVENT
DTSTART;TZID=Pacific/Honolulu:20190627T063000
DTEND;TZID=Pacific/Honolulu:20190627T080000
DTSTAMP:20260422T101935
CREATED:20190613T223701Z
LAST-MODIFIED:20190613T224438Z
UID:5123-1561617000-1561622400@kokuamau.org
SUMMARY:Free webinar - About caring for LGBTQ adults
DESCRIPTION:The MJHS Institute for Innovation in Palliative Care will present a free\, live webinar “Culturally Competent\, Inclusive Palliative and Hospice Care – LGBTQ Adult” \nJune 27\, 2019\,\n6:30 HST or 12:30 p.m. EDT \nThe free webinar is designed to provide useful strategies in the practice of effective and empathic communication around sexual orientation\, gender identity\, and gender expression information for all patients and\, most especially\, the older LGBTQ adult. \nAccording to MJHS\, all clinical and nonclinical staff need to understand and recognize the lived experiences of the LGBTQ population\, and mitigate implicit biases towards them. This is a free\, live webinar for nurses and social workers\, and continuing education (CE) credit is available\, but all are welcome. \nMore
URL:https://kokuamau.org/event/free-webinar-about-caring-for-lgbtq-adults/
END:VEVENT
END:VCALENDAR